BEGIN:VCALENDAR
VERSION:2.0
PRODID:-//eventon.com NONSGML v1.0//EN
CALSCALE:GREGORIAN
METHOD:PUBLISH
BEGIN:VEVENT
UID:69eac148d384f
DTSTAMP:20260424T010304Z
DTSTART:20190828
DTEND:20190829
LOCATION:
SUMMARY:Apresentação de Contas consolidadas referentes ao 1º Semestre de 2019
DESCRIPTION:Apresentação de Contas consolidadas referentes ao 1º Semestr
 e de 2019\nhttps://www.teixeiraduarte.pt/events/apresentacao-de-contas-cons
 olidadas-referentes-ao-1o-semestre-de-2019/
URL:https://www.teixeiraduarte.pt/events/apresentacao-de-contas-consolidadas-referentes-ao-1o-semestre-de-2019/
END:VEVENT
END:VCALENDAR