BEGIN:VCALENDAR
VERSION:2.0
PRODID:-//eventon.com NONSGML v1.0//EN
CALSCALE:GREGORIAN
METHOD:PUBLISH
BEGIN:VEVENT
UID:69eac0ad0ece2
DTSTAMP:20260424T010029Z
DTSTART:20200430
DTEND:20200501
LOCATION:
SUMMARY:Relatório e Contas relativo ao exercício de 2019\,  a aprovar em Assembleia Geral
DESCRIPTION:Relatório e Contas relativo ao exercício de 2019\,  a aprovar
  em Assembleia Geral\nhttps://www.teixeiraduarte.pt/events/contas-consolida
 das-4/
URL:https://www.teixeiraduarte.pt/events/contas-consolidadas-4/
END:VEVENT
END:VCALENDAR