BEGIN:VCALENDAR
VERSION:2.0
PRODID:-//eventon.com NONSGML v1.0//EN
CALSCALE:GREGORIAN
METHOD:PUBLISH
BEGIN:VEVENT
UID:69ead49116f84
DTSTAMP:20260424T022521Z
DTSTART:20200530
DTEND:20200531
LOCATION:
SUMMARY:Apresentação de Contas consolidadas referentes ao 1.º Trimestre de 2020
DESCRIPTION:Apresentação de Contas consolidadas referentes ao 1.º Trimes
 tre de 2020\nhttps://www.teixeiraduarte.pt/events/contas-consolidadas-3/
URL:https://www.teixeiraduarte.pt/events/contas-consolidadas-3/
END:VEVENT
END:VCALENDAR