BEGIN:VCALENDAR
VERSION:2.0
PRODID:-//eventon.com NONSGML v1.0//EN
CALSCALE:GREGORIAN
METHOD:PUBLISH
BEGIN:VEVENT
UID:69ead440b770f
DTSTAMP:20260424T022400Z
DTSTART:20200828
DTEND:20200829
LOCATION:
SUMMARY:Apresentação de Contas consolidadas referentes ao 1.º Semestre de 2020
DESCRIPTION:Apresentação de Contas consolidadas referentes ao 1.º Semest
 re de 2020\nhttps://www.teixeiraduarte.pt/events/contas-consolidadas-2/
URL:https://www.teixeiraduarte.pt/events/contas-consolidadas-2/
END:VEVENT
END:VCALENDAR